BEGIN:VCALENDAR
VERSION:2.0
PRODID:-//OmniMagnetCalendar//EN
BEGIN:VEVENT
DTSTAMP:20190625T195740Z
STATUS:CONFIRMED
UID:hcseattle.clubs.harvard.edu335
DTSTART:20161029T173000Z
DTEND:20161029T203000Z
LOCATION:Fuel Sports, 164 S Washington Street, Seattle, WA, 98104, United States of America,
SUMMARY:Harvard vs. Dartmouth Football Viewing
DESCRIPTION:Cheer on the Crimson! Harvard and Dartmouth alumni join together to watch the Ivy League rivals face off on the gridiron.
BEGIN:VALARM
TRIGGER:-PT15M
ACTION:DISPLAY
END:VALARM
TRANSP:OPAQUE
END:VEVENT
END:VCALENDAR
