BEGIN:VCALENDAR
VERSION:2.0
PRODID:-//OmniMagnetCalendar//EN
BEGIN:VEVENT
DTSTAMP:20190625T195740Z
STATUS:CONFIRMED
UID:hcseattle.clubs.harvard.edu336
DTSTART:20161025T020000Z
DTEND:20161025T040000Z
LOCATION:The Sherman Residence, 7641 NE 12th Street, Medina, WA, 98039,
SUMMARY:Harvard College Admissions Interviewing Kick-off
DESCRIPTION:Hear news from Cambridge and get ready for the new admissions season. New and veteran interviewers are invited.
BEGIN:VALARM
TRIGGER:-PT15M
ACTION:DISPLAY
END:VALARM
TRANSP:OPAQUE
END:VEVENT
END:VCALENDAR
