BEGIN:VCALENDAR
VERSION:2.0
PRODID:-//OmniMagnetCalendar//EN
BEGIN:VEVENT
DTSTAMP:20190625T195740Z
STATUS:CONFIRMED
UID:hcseattle.clubs.harvard.edu379
DTSTART:20171118T170000Z
DTEND:20171118T203000Z
LOCATION:The Lodge Sports Grille, 166 S. King St, Seattle, WA, 98104, United States of America,
SUMMARY:Harvard vs. Yale: 134th Playing of The Game
DESCRIPTION:For the 134th time, Harvard and Yale football go head to head in The Game.
BEGIN:VALARM
TRIGGER:-PT15M
ACTION:DISPLAY
END:VALARM
TRANSP:OPAQUE
END:VEVENT
END:VCALENDAR
