BEGIN:VCALENDAR
VERSION:2.0
PRODID:-//OmniMagnetCalendar//EN
BEGIN:VEVENT
DTSTAMP:20190625T195740Z
STATUS:CONFIRMED
UID:hcseattle.clubs.harvard.edu510
DTSTART:20200315T180000Z
DTEND:20200315T200000Z
LOCATION:Mary's Place Family Center at Burien, 12845 Ambaum Blvd SW, Burien , WA, 98146,
SUMMARY:Recent Grad Volunteering at Mary's Place
DESCRIPTION:Help homeless families by sorting donations, stocking supplies, and cleaning at Mary's Place's first permanent home in Burien.
BEGIN:VALARM
TRIGGER:-PT15M
ACTION:DISPLAY
END:VALARM
TRANSP:OPAQUE
END:VEVENT
END:VCALENDAR
