BEGIN:VCALENDAR
VERSION:2.0
PRODID:-//OmniMagnetCalendar//EN
BEGIN:VEVENT
DTSTAMP:20190625T195740Z
STATUS:CONFIRMED
UID:hcseattle.clubs.harvard.edu723
DTSTART:20250523T004500Z
DTEND:20250523T050000Z
LOCATION:Private Club Downtown Seattle,
SUMMARY:Annual Dinner 2025: Medicines, Molecular Machines, and the Nobel Prize
DESCRIPTION:We invite all alumni from the college and the 12 graduate schools to join us after hours for socializing, a cocktail hour, dinner, and discussion with David Baker, AB ’84, UC Berkeley, PhD ’89, recipient of the 2024 Nobel Prize in Chemistry
BEGIN:VALARM
TRIGGER:-PT15M
ACTION:DISPLAY
END:VALARM
TRANSP:OPAQUE
END:VEVENT
END:VCALENDAR
