BEGIN:VCALENDAR
VERSION:2.0
PRODID:-//OmniMagnetCalendar//EN
BEGIN:VEVENT
DTSTAMP:20190625T195740Z
STATUS:CONFIRMED
UID:hcseattle.clubs.harvard.edu725
DTSTART:20250626T010000Z
DTEND:20250626T040000Z
LOCATION:Downtown Seattle,
SUMMARY:Join or Die, a film about the life & work of HKS Prof. Robert D Putnam
DESCRIPTION:Please join us for socializing, food, bev, and a private screening of "Join or Die" film.  Robert D. Putnam, whose groundbreaking "Bowling Alone" research into community connections could hold the answers to our democracy's present crisis.
BEGIN:VALARM
TRIGGER:-PT15M
ACTION:DISPLAY
END:VALARM
TRANSP:OPAQUE
END:VEVENT
END:VCALENDAR
