BEGIN:VCALENDAR
VERSION:2.0
PRODID:-//OmniMagnetCalendar//EN
BEGIN:VEVENT
DTSTAMP:20190625T195740Z
STATUS:CONFIRMED
UID:hcseattle.clubs.harvard.edu730
DTSTART:20250626T010000Z
DTEND:20250626T033000Z
LOCATION:Downtown Seattle,
SUMMARY:Women in Power: Navigating Careers in Today’s World of AI
DESCRIPTION:On Wednesday, June 25, 2025, our female MBA alumni are invited to this once annual special networking event and panel discussion which will feature several prominent women from our MBA community.
BEGIN:VALARM
TRIGGER:-PT15M
ACTION:DISPLAY
END:VALARM
TRANSP:OPAQUE
END:VEVENT
END:VCALENDAR
