BEGIN:VCALENDAR
VERSION:2.0
PRODID:-//OmniMagnetCalendar//EN
BEGIN:VEVENT
DTSTAMP:20190625T195740Z
STATUS:CONFIRMED
UID:hcseattle.clubs.harvard.edu731
DTSTART:20250613T003000Z
DTEND:20250613T033000Z
LOCATION:Downtown Seattle,
SUMMARY:AI Vibe Coding for MBAs: Hands-on Workshop with Bolt hosted by HBS Seattle - SOLD OUT!
DESCRIPTION:The HBS Club of Seattle invites you to build your own app in just 2 hours using Bolt’s AI coding assistant - no coding experience required. Perfect for anyone looking to express product ideas more clearly, or to rapidly prototype apps.
BEGIN:VALARM
TRIGGER:-PT15M
ACTION:DISPLAY
END:VALARM
TRANSP:OPAQUE
END:VEVENT
END:VCALENDAR
