BEGIN:VCALENDAR
VERSION:2.0
PRODID:-//OmniMagnetCalendar//EN
BEGIN:VEVENT
DTSTAMP:20190625T195740Z
STATUS:CONFIRMED
UID:hcseattle.clubs.harvard.edu763
DTSTART:20260410T023000Z
DTEND:20260410T053000Z
LOCATION:Downtown Seattle,
SUMMARY:Les Misérables, Live in Seattle! --SOLD OUT
DESCRIPTION:Les Misérables tells an enthralling story of broken dreams and unrequited love, passion, sacrifice and redemption - a timeless testament to the survival of the human spirit.
BEGIN:VALARM
TRIGGER:-PT15M
ACTION:DISPLAY
END:VALARM
TRANSP:OPAQUE
END:VEVENT
END:VCALENDAR
