BEGIN:VCALENDAR
VERSION:2.0
PRODID:-//OmniMagnetCalendar//EN
BEGIN:VEVENT
DTSTAMP:20190625T195740Z
STATUS:CONFIRMED
UID:hcseattle.clubs.harvard.edu780
DTSTART:20260602T003000Z
DTEND:20260602T023000Z
LOCATION:Downtown Seattle,
SUMMARY:IvyPlus Women in Power: Navigating Transitions in Today’s World
DESCRIPTION:Join us for an empowering evening of conversation, connection, and celebration of women trailblazers, innovators, and advocates.  Hosted by HBS Seattle.
BEGIN:VALARM
TRIGGER:-PT15M
ACTION:DISPLAY
END:VALARM
TRANSP:OPAQUE
END:VEVENT
END:VCALENDAR
